BEGIN:VCALENDAR
VERSION:2.0
PRODID:-//Tiers-Lieu Le Sonneur - ECPv6.15.20//NONSGML v1.0//EN
CALSCALE:GREGORIAN
METHOD:PUBLISH
X-WR-CALNAME:Tiers-Lieu Le Sonneur
X-ORIGINAL-URL:https://lesonneur.org
X-WR-CALDESC:Évènements pour Tiers-Lieu Le Sonneur
REFRESH-INTERVAL;VALUE=DURATION:PT1H
X-Robots-Tag:noindex
X-PUBLISHED-TTL:PT1H
BEGIN:VTIMEZONE
TZID:Europe/Paris
BEGIN:DAYLIGHT
TZOFFSETFROM:+0100
TZOFFSETTO:+0200
TZNAME:CEST
DTSTART:20250330T010000
END:DAYLIGHT
BEGIN:STANDARD
TZOFFSETFROM:+0200
TZOFFSETTO:+0100
TZNAME:CET
DTSTART:20251026T010000
END:STANDARD
BEGIN:DAYLIGHT
TZOFFSETFROM:+0100
TZOFFSETTO:+0200
TZNAME:CEST
DTSTART:20260329T010000
END:DAYLIGHT
BEGIN:STANDARD
TZOFFSETFROM:+0200
TZOFFSETTO:+0100
TZNAME:CET
DTSTART:20261025T010000
END:STANDARD
BEGIN:DAYLIGHT
TZOFFSETFROM:+0100
TZOFFSETTO:+0200
TZNAME:CEST
DTSTART:20270328T010000
END:DAYLIGHT
BEGIN:STANDARD
TZOFFSETFROM:+0200
TZOFFSETTO:+0100
TZNAME:CET
DTSTART:20271031T010000
END:STANDARD
END:VTIMEZONE
BEGIN:VEVENT
DTSTART;TZID=Europe/Paris:20260423T093000
DTEND;TZID=Europe/Paris:20260423T113000
DTSTAMP:20260423T014153
CREATED:20260129T102940Z
LAST-MODIFIED:20260129T102941Z
UID:8338-1776936600-1776943800@lesonneur.org
SUMMARY:Café des indépendants
DESCRIPTION:Un jeudi par mois\, le tiers-lieu organise le Café des indés\, ouvert à tous les professionnels indépendants du Périgord-Limousin (et au-delà)  \n\n\n\n\nOn s’y retrouve pour faire du réseau\, activer les opportunités\, partager les bons plans et s’occuper de la santé de nos entreprises. \n\n\n\n\nVous êtes auto-entrepreneur\, profession libérale\, indépendant\, artisan\, quelle que soit la nature de votre activité\, vous êtes la/le bienvenu·e. Vous avez un projet dans la tête\, prêt à démarrer ou en panne\, c’est le bon endroit aussi pour venir en parler et trouver soutien et bonnes idées. \n\n\n\n\n\n\n\n \n\n\n\n\nÇa vous dit\, un bon café qui booste votre activité (les amateurs de tisane sont nombreux aussi)? Notez la date sur votre calendrier et … parlez-en autour de vous ! \n\n\n\nPS : Venez au naturel\, les mains dans les poches\, l’humeur belle ou en berne\, sans prise de tête. (Cela dit\, on aime aussi les viennoiseries\, si vous voulez en apporter elles seront bien accueillies ;p) \n\n\n\nA lire aussi\, un très bel article paru dans Sud-ouest Dordogne par notre correspondant local Daniel Syrieix :  \n\n\n\nhttps://www.sudouest.fr/dordogne/saint-pierre-de-frugie/saint-pierre-de-frugie-un-forum-d-entraide-pour-les-chefs-d-entreprise-24439804.php
URL:https://lesonneur.org/actus/cafe-des-independants-12/
LOCATION:La Saucisserie\, Croix de la Sablo\, Saint Pierre de Frugie\, 24450
CATEGORIES:Café des indépendants,Vie professionnelle
ATTACH;FMTTYPE=image/jpeg:https://lesonneur.org/wp-content/uploads/2024/03/nathan-dumlao-pMW4jzELQCw-unspla.jpg
END:VEVENT
END:VCALENDAR